BEGIN:VCALENDAR
VERSION:2.0
PRODID:-//Tukios.com/
BEGIN:VEVENT
UID:88953463-f868-4154-847c-89f940e4672a@www.midwest-cremation.com
DTSTAMP:20260423T173143Z
DTSTART:20260512T153000Z
DTEND:20260512T163000Z
SUMMARY:Graveside Service
DESCRIPTION:
URL:https://www.midwest-cremation.com/obituaries/raymond-van-sickle
LOCATION:Cottonwood Cemetery US 50 Highway  Emporia KS 66801
GEO:38.4050425;-96.2048541
END:VEVENT
END:VCALENDAR