BEGIN:VCALENDAR
VERSION:2.0
PRODID:-//Tukios.com/
BEGIN:VEVENT
UID:1fa2aa10-abc6-4e62-9b16-c80019a05094@www.midwest-cremation.com
DTSTAMP:20260422T173654Z
DTSTART:20260509T153000Z
DTEND:20260509T163000Z
SUMMARY:Memorial Service
DESCRIPTION:
URL:https://www.midwest-cremation.com/obituaries/maria-vick
LOCATION: 2930 Southeast Tecumseh Road  Tecumseh KS 66542
GEO:39.0142961;-95.5850939
END:VEVENT
END:VCALENDAR