BEGIN:VCALENDAR
VERSION:2.0
PRODID:-//Tukios.com/
BEGIN:VEVENT
UID:3075dd5c-2111-430e-b888-36da384b15d3@www.midwest-cremation.com
DTSTAMP:20260423T201733Z
DTSTART:20260502T200000Z
DTEND:20260502T210000Z
SUMMARY:Memorial Service
DESCRIPTION:
URL:https://www.midwest-cremation.com/obituaries/charlene-horsechief
LOCATION: 2701 Southeast Croco Road  Topeka KS 66605
GEO:39.0182737;-95.6149159
END:VEVENT
END:VCALENDAR